BEGIN:VCALENDAR
VERSION:2.0
PRODID:-//Kenosha Breck - ECPv6.15.20//NONSGML v1.0//EN
CALSCALE:GREGORIAN
METHOD:PUBLISH
X-WR-CALNAME:Kenosha Breck
X-ORIGINAL-URL:https://kenoshabreck.com
X-WR-CALDESC:Events for Kenosha Breck
REFRESH-INTERVAL;VALUE=DURATION:PT1H
X-Robots-Tag:noindex
X-PUBLISHED-TTL:PT1H
BEGIN:VTIMEZONE
TZID:America/Denver
BEGIN:DAYLIGHT
TZOFFSETFROM:-0700
TZOFFSETTO:-0600
TZNAME:MDT
DTSTART:20250309T090000
END:DAYLIGHT
BEGIN:STANDARD
TZOFFSETFROM:-0600
TZOFFSETTO:-0700
TZNAME:MST
DTSTART:20251102T080000
END:STANDARD
BEGIN:DAYLIGHT
TZOFFSETFROM:-0700
TZOFFSETTO:-0600
TZNAME:MDT
DTSTART:20260308T090000
END:DAYLIGHT
BEGIN:STANDARD
TZOFFSETFROM:-0600
TZOFFSETTO:-0700
TZNAME:MST
DTSTART:20261101T080000
END:STANDARD
BEGIN:DAYLIGHT
TZOFFSETFROM:-0700
TZOFFSETTO:-0600
TZNAME:MDT
DTSTART:20270314T090000
END:DAYLIGHT
BEGIN:STANDARD
TZOFFSETFROM:-0600
TZOFFSETTO:-0700
TZNAME:MST
DTSTART:20271107T080000
END:STANDARD
END:VTIMEZONE
BEGIN:VEVENT
DTSTART;TZID=America/Denver:20260621T100000
DTEND;TZID=America/Denver:20260621T150000
DTSTAMP:20260425T180051
CREATED:20260331T061651Z
LAST-MODIFIED:20260423T192843Z
UID:4712-1782036000-1782054000@kenoshabreck.com
SUMMARY:Breckenridge Sunday Market | Shop\, Stroll & Main Street Afternoons
DESCRIPTION:Breckenridge Sunday Market | June 21\, 2026\n\nAs summer gets rolling\, Sundays in Breckenridge start to take on their own rhythm. \nSundays in Breckenridge are made for getting outside\, exploring town\, and enjoying a laid-back mountain afternoon. The Breckenridge Sunday Market\, brought to life by Rocky Mountain Events\, returns this summer with a lively mix of vendors\, handmade goods\, and local finds. \nRunning from 10:00 AM to 3:00 PM\, the market takes over Main Street Station and The Village at Breckenridge. You’ll find dozens of booths offering crafts\, art\, snacks\, and Colorado-made products. In addition\, it’s an easy way to spend a few hours soaking up the sunshine and enjoying the energy of a busy summer weekend. \n📍 Main Street Station🕙 10:00 AM – 3:00 PM🐶 Leashed and well-behaved dogs welcome \n\n🌞 Keep the Sunday Going on Main Street\nAfter the market\, it’s an easy walk back up Main Street. From there\, the afternoon really starts to open up. \nKenosha Breck is just a few minutes away. It’s a great next stop if you’re ready to relax after a morning of browsing. \n• The Best Deck in Breck is open and ready for sunshine• Dogs are always welcome on the pawtio 🐾• Colorado craft beer is flowing• Sunday specials are in full swing• Happy Hour kicks off at 3:00 PM \nWhether you’re winding down with a cold beer or grabbing a bite\, it’s an easy transition from market mode to a full Sunday afternoon. \n\n🧺 Plan Your Sunday\n• Start at the market (10 AM – 3 PM)• Take your time exploring Main Street Station• Then head back up Main Street for food\, drinks\, and a relaxed finish \n\nWith longer days and more happening around town\, it’s a great time to be out and about.
URL:https://kenoshabreck.com/event/breckenridge-sunday-market-shop-stroll-main-street-afternoons-3/
LOCATION:Rocky Mountain Events\, Breckenridge\, CO\, 80424\, United States
CATEGORIES:Local Events & Happenings
ATTACH;FMTTYPE=image/png:https://kenoshabreck.com/wp-content/uploads/2026/03/Breckenridge-Sunday-Market-Main-Street-Summer_26.png
END:VEVENT
BEGIN:VEVENT
DTSTART;TZID=America/Denver:20260621T113000
DTEND;TZID=America/Denver:20260621T210000
DTSTAMP:20260425T180051
CREATED:20260420T054142Z
LAST-MODIFIED:20260423T192418Z
UID:4797-1782041400-1782075600@kenoshabreck.com
SUMMARY:Father’s Day Breckenridge | BBQ & Beer at Kenosha
DESCRIPTION:Father’s Day at Kenosha – Keep It Easy\, Keep It Good\nFather’s Day in Breckenridge lines up perfectly with the start of summer. As the town fills up\, patios open\, and the mountain comes alive\, it’s the perfect time to slow things down and enjoy a great meal with family. \nAt Kenosha\, we’re keeping it simple. We serve our full menu all day\, so everyone can order exactly what they want without dealing with limited holiday menus or long waits. \n\n🍺 A Cold One for Dad\nTo celebrate\, we’re raising a glass to Dad: \n🍺 Dad’s first beer is on usChoose a Coors Light draft or a Breckenridge Brew Pub beer — because he’s earned it. \nNo hoops\, no hassle — just show up and we’ll take care of the rest. \n\n🍖 Food Built for Dad\nFrom house-smoked BBQ and hand-cut steaks to stacked burgers and hearty plates\, this is the kind of menu Dad actually wants. \nWhether he’s a BBQ guy\, a burger guy\, or just here for the beer\, there’s something for everyone at the table. \n\n🍹 Sunday Specials + Happy Hour\nSince it’s Sunday\, the lineup is already dialed: \n• $5 off Smokehouse & Thai Chicken Salads \n• $6 Mimosas \n• $9 Bacon Bloody Mary \nMeanwhile\, Happy Hour runs from 3–5 PM\, making it an easy stop before or after your day around town. \n\n🌄 Deck Views & Summer Vibes\nIf the weather’s good (and it usually is)\, grab a seat on the deck and take in the energy of a busy Breckenridge summer day. With the Peak 8 Fun Park open and Main Street buzzing\, there’s plenty going on — but Kenosha stays easy. \n\n👨‍👩‍👧‍👦 Bring the Family\nNo reservations required. No prix fixe menus. Just a relaxed spot where Dad can kick back\, eat well\, and enjoy the day. \n\n🍻 Celebrate Father’s Day in Breckenridge\nSo\, make it simple this year. Bring Dad to Kenosha\, grab a table\, and let us handle the food and drinks.
URL:https://kenoshabreck.com/event/fathers-day-breckenridge-bbq-beer-at-kenosha/
LOCATION:Kenosha Breck\, 301 South Main Street\, Breckenridge\, CO\, 80424\, United States
CATEGORIES:Seasonal & Holiday Events
ATTACH;FMTTYPE=image/jpeg:https://kenoshabreck.com/wp-content/uploads/2025/04/Rad-Dads-June-15_2025.jpg
END:VEVENT
END:VCALENDAR