BEGIN:VCALENDAR
VERSION:2.0
PRODID:-//Kenosha Breck - ECPv6.15.20//NONSGML v1.0//EN
CALSCALE:GREGORIAN
METHOD:PUBLISH
X-WR-CALNAME:Kenosha Breck
X-ORIGINAL-URL:https://kenoshabreck.com
X-WR-CALDESC:Events for Kenosha Breck
REFRESH-INTERVAL;VALUE=DURATION:PT1H
X-Robots-Tag:noindex
X-PUBLISHED-TTL:PT1H
BEGIN:VTIMEZONE
TZID:America/Denver
BEGIN:DAYLIGHT
TZOFFSETFROM:-0700
TZOFFSETTO:-0600
TZNAME:MDT
DTSTART:20250309T090000
END:DAYLIGHT
BEGIN:STANDARD
TZOFFSETFROM:-0600
TZOFFSETTO:-0700
TZNAME:MST
DTSTART:20251102T080000
END:STANDARD
BEGIN:DAYLIGHT
TZOFFSETFROM:-0700
TZOFFSETTO:-0600
TZNAME:MDT
DTSTART:20260308T090000
END:DAYLIGHT
BEGIN:STANDARD
TZOFFSETFROM:-0600
TZOFFSETTO:-0700
TZNAME:MST
DTSTART:20261101T080000
END:STANDARD
BEGIN:DAYLIGHT
TZOFFSETFROM:-0700
TZOFFSETTO:-0600
TZNAME:MDT
DTSTART:20270314T090000
END:DAYLIGHT
BEGIN:STANDARD
TZOFFSETFROM:-0600
TZOFFSETTO:-0700
TZNAME:MST
DTSTART:20271107T080000
END:STANDARD
END:VTIMEZONE
BEGIN:VEVENT
DTSTART;TZID=America/Denver:20260521T170000
DTEND;TZID=America/Denver:20260521T200000
DTSTAMP:20260425T045501
CREATED:20260319T163418Z
LAST-MODIFIED:20260402T183916Z
UID:4683-1779382800-1779393600@kenoshabreck.com
SUMMARY:Third Thursdays Breckenridge | Art Walk + BBQ & Beer on Main Street
DESCRIPTION:Third Thursdays Breckenridge\nExperience one of the most vibrant nights in town during Third Thursdays Breckenridge\, a monthly celebration of local art\, music\, and community energy. \nHeld on the third Thursday of each month\, this lively event invites locals and visitors to explore Breckenridge’s creative side. Galleries\, studios\, and local businesses stay open late. They feature rotating art exhibits\, live music\, and interactive experiences throughout downtown. \nAs you stroll through town\, you’ll discover local artists\, makers\, and pop-up performances along Main Street. In addition\, you may find unexpected moments around every corner. Whether you step into galleries or simply take in the atmosphere\, this event offers a fresh way to experience Breckenridge beyond the slopes. \n\n🍻 Make Kenosha Your Third Thursday Stop\nLocated right on Main Street\, Kenosha Breck is the perfect place to start your night or wind things down. \nEvery Thursday\, we feature: \n• $5 off BBQ Plates\n• $2 off Hoppy Beers \nMeanwhile\, Happy Hour runs daily from 3–5 PM\, giving you a great reason to get an early start. Grab a Colorado craft beer\, share some house-smoked BBQ\, and settle in before heading back out. \nAfter exploring downtown\, come back and relax with a well-earned meal. Whether you’re gallery hopping or just enjoying a night out\, Kenosha is an easy and welcoming stop along the way. \n\n🎨 Plan Your Night\nStart with Happy Hour at Kenosha. Then explore Third Thursdays events throughout downtown. Afterward\, return for BBQ\, beers\, and a laid-back finish to the evening. \nFor full event details and participating locations\, visit the official Third Thursdays event page. Breck Create!
URL:https://kenoshabreck.com/event/third-thursdays-breckenridge-art-walk-bbq-beer-on-main-street-3/
LOCATION:Breck Create\, 136 South Main Street\, Breckenridge\, CO\, 80424\, United States
CATEGORIES:Local Events & Happenings
ATTACH;FMTTYPE=image/png:https://kenoshabreck.com/wp-content/uploads/2026/03/third-thursdays-breckenridge-art-walk-2026.png
END:VEVENT
BEGIN:VEVENT
DTSTART;TZID=America/Denver:20260530T090000
DTEND;TZID=America/Denver:20260530T140000
DTSTAMP:20260425T045501
CREATED:20260319T165100Z
LAST-MODIFIED:20260423T192804Z
UID:4685-1780131600-1780149600@kenoshabreck.com
SUMMARY:Breckenridge Town Clean-Up Day | May 30\, 2026
DESCRIPTION:Join the community for Breckenridge Town Clean-Up Day on Saturday\, May 30. It’s a fun and rewarding way to give back while enjoying time outdoors in the mountains. \nThe Breckenridge Town Clean-Up Day is a great way to get outside and support the Town. It also gives you a chance to give back to the community. This annual event brings locals\, businesses\, and visitors together. Together\, they help keep Breckenridge clean\, beautiful\, and ready for the summer season. \nIt’s also a great excuse to meet new people. At the same time\, you can take part in something that supports the place we all love. \n\nWhat to Expect at Breckenridge Town Clean-Up Day\nThe day kicks off at 9:00 AM on the Riverwalk Center Lawn. Volunteers can check in and grab a free breakfast before heading out. From there\, groups spread out to clean areas throughout town. \nIn addition\, participants who bring a reusable coffee mug or beverage container will receive an extra ticket for the thank-you door prize giveaway. \nThroughout the morning\, volunteers clean streets\, trails\, and public spaces across Breckenridge. It’s a simple way to make a big impact. \nThis year’s event also celebrates the launch of the Breck E-Ride\, a new community e-bike share program. The program makes it easier to get around town in a more sustainable way. Demo bikes will be available to test. Staff will also be on-site to answer questions and help you get started. \nAfter the clean-up\, head back to the Riverwalk Center Lawn between 12:00 PM and 2:00 PM. Enjoy a well-earned free lunch\, along with live music and prize giveaways. \nTo support Breckenridge’s sustainability efforts\, walk\, bike\, or take public transit if you can. However\, if you do drive\, you can park for free in designated Town lots. \nEveryone is welcome to join in. You can pick up trash\, enjoy the atmosphere\, or simply show support for the community. \n\n🌿 After the Event\nOnce the clean-up wraps up\, the afternoon is yours to enjoy. Take some time to relax and explore Breckenridge. \nIf you’re heading through Main Street later in the day\, you’ll find plenty of places to grab a drink or a bite. It’s a great way to keep the good vibes going after a day well spent.
URL:https://kenoshabreck.com/event/breckenridge-town-clean-up-day-may-30-2026/
LOCATION:Town of Breckenridge\, CO\, 150 Ski Hill Road\, Breckenridge\, CO\, 8042\, United States
CATEGORIES:Local Events & Happenings
ATTACH;FMTTYPE=image/png:https://kenoshabreck.com/wp-content/uploads/2026/03/breckenridge-town-clean-up-day-volunteers-May-2026.png
END:VEVENT
END:VCALENDAR