BEGIN:VCALENDAR
VERSION:2.0
PRODID:-//Kenosha Breck - ECPv6.15.20//NONSGML v1.0//EN
CALSCALE:GREGORIAN
METHOD:PUBLISH
X-WR-CALNAME:Kenosha Breck
X-ORIGINAL-URL:https://kenoshabreck.com
X-WR-CALDESC:Events for Kenosha Breck
REFRESH-INTERVAL;VALUE=DURATION:PT1H
X-Robots-Tag:noindex
X-PUBLISHED-TTL:PT1H
BEGIN:VTIMEZONE
TZID:America/Denver
BEGIN:DAYLIGHT
TZOFFSETFROM:-0700
TZOFFSETTO:-0600
TZNAME:MDT
DTSTART:20250309T090000
END:DAYLIGHT
BEGIN:STANDARD
TZOFFSETFROM:-0600
TZOFFSETTO:-0700
TZNAME:MST
DTSTART:20251102T080000
END:STANDARD
BEGIN:DAYLIGHT
TZOFFSETFROM:-0700
TZOFFSETTO:-0600
TZNAME:MDT
DTSTART:20260308T090000
END:DAYLIGHT
BEGIN:STANDARD
TZOFFSETFROM:-0600
TZOFFSETTO:-0700
TZNAME:MST
DTSTART:20261101T080000
END:STANDARD
BEGIN:DAYLIGHT
TZOFFSETFROM:-0700
TZOFFSETTO:-0600
TZNAME:MDT
DTSTART:20270314T090000
END:DAYLIGHT
BEGIN:STANDARD
TZOFFSETFROM:-0600
TZOFFSETTO:-0700
TZNAME:MST
DTSTART:20271107T080000
END:STANDARD
END:VTIMEZONE
BEGIN:VEVENT
DTSTART;TZID=America/Denver:20260416T170000
DTEND;TZID=America/Denver:20260416T200000
DTSTAMP:20260423T120138
CREATED:20260319T162904Z
LAST-MODIFIED:20260402T184547Z
UID:4681-1776358800-1776369600@kenoshabreck.com
SUMMARY:Third Thursdays Breckenridge | Art Walk + BBQ & Beer on Main Street
DESCRIPTION:Third Thursdays Breckenridge\nExperience one of the most vibrant nights in town during Third Thursdays Breckenridge\, a monthly celebration of local art\, music\, and community energy. \nHeld on the third Thursday of each month\, this lively event invites locals and visitors to explore Breckenridge’s creative side. Galleries\, studios\, and local businesses stay open late. They feature rotating art exhibits\, live music\, and interactive experiences throughout downtown. \nAs you stroll through town\, you’ll discover local artists\, makers\, and pop-up performances along Main Street. In addition\, you may find unexpected moments around every corner. Whether you step into galleries or simply take in the atmosphere\, this event offers a fresh way to experience Breckenridge beyond the slopes. \n\n🍻 Make Kenosha Your Third Thursday Stop\nLocated right on Main Street\, Kenosha Breck is the perfect place to start your night or wind things down. \nEvery Thursday\, we feature: \n• $5 off BBQ Plates\n• $2 off Hoppy Beers \nMeanwhile\, Happy Hour runs daily from 3–5 PM\, giving you a great reason to get an early start. Grab a Colorado craft beer\, share some house-smoked BBQ\, and settle in before heading back out. \nAfter exploring downtown\, come back and relax with a well-earned meal. Whether you’re gallery hopping or just enjoying a night out\, Kenosha is an easy and welcoming stop along the way. \n\n🎨 Plan Your Night\nStart with Happy Hour at Kenosha. Then explore Third Thursdays events throughout downtown. Afterward\, return for BBQ\, beers\, and a laid-back finish to the evening. \nFor full event details and participating locations\, visit the official Third Thursdays event page. Breck Create!
URL:https://kenoshabreck.com/event/third-thursdays-breckenridge-art-walk-bbq-beer-on-main-street-2/
LOCATION:Breck Create\, 136 South Main Street\, Breckenridge\, CO\, 80424\, United States
CATEGORIES:Local Events & Happenings
ATTACH;FMTTYPE=image/png:https://kenoshabreck.com/wp-content/uploads/2026/03/third-thursdays-breckenridge-art-walk-2026.png
END:VEVENT
END:VCALENDAR