BEGIN:VCALENDAR
VERSION:2.0
PRODID:-//Kenosha Breck - ECPv6.15.20//NONSGML v1.0//EN
CALSCALE:GREGORIAN
METHOD:PUBLISH
X-ORIGINAL-URL:https://kenoshabreck.com
X-WR-CALDESC:Events for Kenosha Breck
REFRESH-INTERVAL;VALUE=DURATION:PT1H
X-Robots-Tag:noindex
X-PUBLISHED-TTL:PT1H
BEGIN:VTIMEZONE
TZID:America/Denver
BEGIN:DAYLIGHT
TZOFFSETFROM:-0700
TZOFFSETTO:-0600
TZNAME:MDT
DTSTART:20250309T090000
END:DAYLIGHT
BEGIN:STANDARD
TZOFFSETFROM:-0600
TZOFFSETTO:-0700
TZNAME:MST
DTSTART:20251102T080000
END:STANDARD
BEGIN:DAYLIGHT
TZOFFSETFROM:-0700
TZOFFSETTO:-0600
TZNAME:MDT
DTSTART:20260308T090000
END:DAYLIGHT
BEGIN:STANDARD
TZOFFSETFROM:-0600
TZOFFSETTO:-0700
TZNAME:MST
DTSTART:20261101T080000
END:STANDARD
BEGIN:DAYLIGHT
TZOFFSETFROM:-0700
TZOFFSETTO:-0600
TZNAME:MDT
DTSTART:20270314T090000
END:DAYLIGHT
BEGIN:STANDARD
TZOFFSETFROM:-0600
TZOFFSETTO:-0700
TZNAME:MST
DTSTART:20271107T080000
END:STANDARD
END:VTIMEZONE
BEGIN:VEVENT
DTSTART;TZID=America/Denver:20260521T113000
DTEND;TZID=America/Denver:20260605T210000
DTSTAMP:20260425T161150
CREATED:20260421T061414Z
LAST-MODIFIED:20260421T062512Z
UID:4812-1779363000-1780693200@kenoshabreck.com
SUMMARY:Breckenridge Dining Passport at Kenosha | 2-for-1 Apps\, Drinks & More
DESCRIPTION:🍻 Spring Dining Passport at Kenosha (Round 2: Apps & Drinks)\nAs spring rolls on in Breckenridge\, the Breckenridge Dining Passport 2026 keeps the momentum going. While Round 1 focused on entrées\, this next phase shifts toward a more relaxed\, social experience. \nLooking to grab a drink\, share a few plates\, or keep things casual? If so\, this is the perfect time to stop in. In addition\, the second round of Passport deals makes it even easier to enjoy Kenosha with friends\, family\, or a quick après-style hang. \n\n🍽️ Kenosha Passport Offer (May 20 – June 5)\n• Two-for-One Draft Beers (excluding select premium/limited pours)\n• Two-for-One Cocktails\n• Two-for-One Appetizers & Small Plates \n\n🔥 What to Try\nNot sure where to start? Begin with a few of Kenosha’s favorite shareable options: \n• Wings\, nachos\, and BBQ starters\n• House-smoked meats in smaller portions\n• Rotating draft beers and local favorites\n• Classic cocktails and easy sippers \nFrom there\, mix and match a few plates\, grab a drink\, and settle in for one of the best casual dining deals in Breckenridge this spring. \n\n🎟️ How the Dining Passport Works\nThe Breckenridge Dining Passport is a digital program that supports scholarships through the Breckenridge Restaurant Association. Simply put\, it’s a great way to explore local restaurants while giving back to the community. \n• Purchase your Passport online\n• Show proof when you dine\n• Unlock exclusive offers at participating restaurants \n👉 Grab yours here:https://www.breckenridgediningguide.com/passport-spring26 \nMeanwhile\, you can browse all participating restaurants and offers here:https://www.breckenridgediningguide.com/spring-offers \n\n📍 Why Kenosha\nRight on Main Street and just steps from the Riverwalk\, Kenosha offers a relaxed\, come-as-you-are atmosphere. Because of its central location\, it’s an easy stop whether you’re heading in from the slopes or wrapping up a day around town. \n• Colorado craft beer on tap\n• Classic cocktails and rotating drafts\n• A laid-back\, social dining experience \nPlanning a casual night out? Meeting friends for drinks? Either way\, Kenosha fits right into your Dining Passport plans. \n\n⚠️ Details & Restrictions\n• Dining Passport required\n• Dine-in only\n• One offer per table/visit\n• A 20% gratuity will be added to the original bill\n• Not valid Memorial Day Weekend\n• Offers valid through June 5\, 2026 \n\n🍽️ Explore More Dining Passport Favorites\nWhile you’re out exploring Breckenridge\, consider turning it into a full dining tour. At the same time\, the Spring Dining Passport gives you a great reason to try something new around town. \nFor example\, you can also visit:Gold Pan Saloon • Castaways • Luigi’s PIzzaria • Blue Stag • La Francaise Bistrot • The Carlin • Motherloaded • Fatty’s Pizzeria \nAs a result\, it’s easy to mix and match stops while enjoying some of the best food and drink Breckenridge has to offer.
URL:https://kenoshabreck.com/event/breckenridge-dining-passport-at-kenosha-2-for-1-apps-drinks-more/
LOCATION:Kenosha Breck\, 301 South Main Street\, Breckenridge\, CO\, 80424\, United States
CATEGORIES:Food & Drink Specials
ATTACH;FMTTYPE=image/png:https://kenoshabreck.com/wp-content/uploads/2026/04/Kenosha-Dining-Passport-–-2-for-1-Entrees-Wine.png
END:VEVENT
BEGIN:VEVENT
DTSTART;TZID=America/Denver:20260607T100000
DTEND;TZID=America/Denver:20260607T150000
DTSTAMP:20260425T161150
CREATED:20260331T060046Z
LAST-MODIFIED:20260402T182802Z
UID:4705-1780826400-1780844400@kenoshabreck.com
SUMMARY:Breckenridge Sunday Market | Shop\, Stroll & Main Street Afternoons
DESCRIPTION:Breckenridge Sunday Market | June 7\, 2026\n\nSummer Sundays are officially on in Breckenridge\, and the Sunday Market is the perfect place to kick things off. \nSundays in Breckenridge are made for getting outside\, exploring town\, and enjoying a laid-back mountain afternoon. The Breckenridge Sunday Market\, brought to life by Rocky Mountain Events\, returns this summer with a lively mix of vendors\, handmade goods\, and local finds. \nRunning from 10:00 AM to 3:00 PM\, the market takes over Main Street Station and The Village at Breckenridge. You’ll find dozens of booths offering crafts\, art\, snacks\, and Colorado-made products. In addition\, it’s an easy way to spend a few hours soaking up the sunshine and enjoying the energy of a busy summer weekend. \n📍 Main Street Station🕙 10:00 AM – 3:00 PM🐶 Leashed and well-behaved dogs welcome \n\n🌞 Keep the Sunday Going on Main Street\nAfter the market\, it’s an easy walk back up Main Street. From there\, the afternoon really starts to open up. \nKenosha Breck is just a few minutes away. It’s a great next stop if you’re ready to relax after a morning of browsing. \n• The Best Deck in Breck is open and ready for sunshine• Dogs are always welcome on the pawtio 🐾• Colorado craft beer is flowing• Sunday specials are in full swing• Happy Hour kicks off at 3:00 PM \nWhether you’re winding down with a cold beer or grabbing a bite\, it’s an easy transition from market mode to a full Sunday afternoon. \n\n🧺 Plan Your Sunday\n• Start at the market (10 AM – 3 PM)• Take your time exploring Main Street Station• Then head back up Main Street for food\, drinks\, and a relaxed finish \n\nEarly summer in Breck is just getting started — and Sundays are a great way to settle into it.
URL:https://kenoshabreck.com/event/breckenridge-sunday-market-shop-stroll-main-street-afternoons/
LOCATION:Rocky Mountain Events\, Breckenridge\, CO\, 80424\, United States
CATEGORIES:Local Events & Happenings
END:VEVENT
BEGIN:VEVENT
DTSTART;TZID=America/Denver:20260614T100000
DTEND;TZID=America/Denver:20260614T150000
DTSTAMP:20260425T161150
CREATED:20260331T061346Z
LAST-MODIFIED:20260423T193016Z
UID:4710-1781431200-1781449200@kenoshabreck.com
SUMMARY:Breckenridge Sunday Market | Shop\, Stroll & Main Street Afternoons
DESCRIPTION:Breckenridge Sunday Market | June 14\, 2026\n\nLooking for an easy way to spend a Sunday in Breckenridge? The Sunday Market is a great place to start. \nSundays in Breckenridge are made for getting outside\, exploring town\, and enjoying a laid-back mountain afternoon. The Breckenridge Sunday Market\, brought to life by Rocky Mountain Events\, returns this summer with a lively mix of vendors\, handmade goods\, and local finds. \nRunning from 10:00 AM to 3:00 PM\, the market takes over Main Street Station and The Village at Breckenridge. You’ll find dozens of booths offering crafts\, art\, snacks\, and Colorado-made products. In addition\, it’s an easy way to spend a few hours soaking up the sunshine and enjoying the energy of a busy summer weekend. \n📍 Main Street Station🕙 10:00 AM – 3:00 PM🐶 Leashed and well-behaved dogs welcome \n\n🌞 Keep the Sunday Going on Main Street\nAfter the market\, it’s an easy walk back up Main Street. From there\, the afternoon really starts to open up. \nKenosha Breck is just a few minutes away. It’s a great next stop if you’re ready to relax after a morning of browsing. \n• The Best Deck in Breck is open and ready for sunshine• Dogs are always welcome on the pawtio 🐾• Colorado craft beer is flowing• Sunday specials are in full swing• Happy Hour kicks off at 3:00 PM \nWhether you’re winding down with a cold beer or grabbing a bite\, it’s an easy transition from market mode to a full Sunday afternoon. \n\n🧺 Plan Your Sunday\n• Start at the market (10 AM – 3 PM)• Take your time exploring Main Street Station• Then head back up Main Street for food\, drinks\, and a relaxed finish \n\nBetween sunshine\, fresh air\, and a full afternoon ahead\, it’s a solid way to spend the day.
URL:https://kenoshabreck.com/event/breckenridge-sunday-market-shop-stroll-main-street-afternoons-2/
LOCATION:Rocky Mountain Events\, Breckenridge\, CO\, 80424\, United States
CATEGORIES:Local Events & Happenings
ATTACH;FMTTYPE=image/png:https://kenoshabreck.com/wp-content/uploads/2026/03/Breckenridge-Sunday-Market-Main-Street-Summer_26.png
END:VEVENT
BEGIN:VEVENT
DTSTART;TZID=America/Denver:20260618T160000
DTEND;TZID=America/Denver:20260618T190000
DTSTAMP:20260425T161150
CREATED:20260322T184605Z
LAST-MODIFIED:20260423T192933Z
UID:4693-1781798400-1781809200@kenoshabreck.com
SUMMARY:Breckenridge Farmers Market | Local Food Thursdays
DESCRIPTION:Breckenridge Farmers Market | June 18\, 2026Thursdays | June 18 – September 24\, 2026 \n\nSummer evenings in Breckenridge start right here with fresh food and local flavor. \nSpend your summer evenings exploring the Breckenridge Farmers Market. It’s a weekly celebration of fresh food\, local farms\, and handcrafted goods in the heart of downtown. \nHeld every Thursday from June through September\, this market brings together a curated mix of Colorado growers\, ranchers\, bakers\, and food artisans. It’s one of the best ways to experience the region’s local food scene. At the same time\, you can enjoy Breckenridge’s mountain-town charm. \nStroll through the market and discover seasonal produce\, farm-fresh dairy\, artisan bread\, small-batch jams\, mushrooms\, honey\, and more. In addition\, many vendors are happy to share their stories. This makes it easy to connect with the people behind the products. \nWhether you’re picking up ingredients for dinner\, grabbing a snack to enjoy on the go\, or simply browsing\, the Breckenridge Farmers Market offers a relaxed and welcoming atmosphere. \nLocated at The Exchange Lot (112 Washington Ave.)\, the market runs from 4:00 PM to 7:00 PM\, making it a perfect late-afternoon stop during your time in town. \n\n🍻 Make It a Thursday Tradition\nAfter walking the market\, head over to Kenosha Breck on Main Street to keep your Thursday going. \nEvery Thursday\, we feature: \n• $5 off BBQ Plates\n• $2 off Hoppy Beers \nMeanwhile\, Happy Hour runs daily from 3–5 PM. This makes it easy to start your afternoon before the market or wind down afterward. \nGrab a cold Colorado craft beer\, share some house-smoked BBQ\, and enjoy a laid-back evening just steps from downtown. \n\n🧺 Plan Your Visit\n• Visit the market between 4–7 PM\n• Support local farms and food producers\n• Enjoy a relaxed summer evening in Breckenridge \n👉 For updates\, schedules\, and vendor announcements\, visit the official Farmers Market website. \n\n🥕 Vendors\nVendor lists are typically updated closer to the season. Check back soon for a full lineup of farms\, food producers\, and local favorites participating in this year’s market. \n\nEarly summer is the perfect time to ease into Breck’s local food scene.
URL:https://kenoshabreck.com/event/breckenridge-farmers-market-local-food-thursdays-16/
LOCATION:Jarman and Co. Events\, 640 Detroit Street\, Denver\, CO\, 80206\, United States
CATEGORIES:Local Events & Happenings
ATTACH;FMTTYPE=image/png:https://kenoshabreck.com/wp-content/uploads/2026/03/breckenridge-Farmers-Market-Local-Food-2026.png
END:VEVENT
BEGIN:VEVENT
DTSTART;TZID=America/Denver:20260621T100000
DTEND;TZID=America/Denver:20260621T150000
DTSTAMP:20260425T161150
CREATED:20260331T061651Z
LAST-MODIFIED:20260423T192843Z
UID:4712-1782036000-1782054000@kenoshabreck.com
SUMMARY:Breckenridge Sunday Market | Shop\, Stroll & Main Street Afternoons
DESCRIPTION:Breckenridge Sunday Market | June 21\, 2026\n\nAs summer gets rolling\, Sundays in Breckenridge start to take on their own rhythm. \nSundays in Breckenridge are made for getting outside\, exploring town\, and enjoying a laid-back mountain afternoon. The Breckenridge Sunday Market\, brought to life by Rocky Mountain Events\, returns this summer with a lively mix of vendors\, handmade goods\, and local finds. \nRunning from 10:00 AM to 3:00 PM\, the market takes over Main Street Station and The Village at Breckenridge. You’ll find dozens of booths offering crafts\, art\, snacks\, and Colorado-made products. In addition\, it’s an easy way to spend a few hours soaking up the sunshine and enjoying the energy of a busy summer weekend. \n📍 Main Street Station🕙 10:00 AM – 3:00 PM🐶 Leashed and well-behaved dogs welcome \n\n🌞 Keep the Sunday Going on Main Street\nAfter the market\, it’s an easy walk back up Main Street. From there\, the afternoon really starts to open up. \nKenosha Breck is just a few minutes away. It’s a great next stop if you’re ready to relax after a morning of browsing. \n• The Best Deck in Breck is open and ready for sunshine• Dogs are always welcome on the pawtio 🐾• Colorado craft beer is flowing• Sunday specials are in full swing• Happy Hour kicks off at 3:00 PM \nWhether you’re winding down with a cold beer or grabbing a bite\, it’s an easy transition from market mode to a full Sunday afternoon. \n\n🧺 Plan Your Sunday\n• Start at the market (10 AM – 3 PM)• Take your time exploring Main Street Station• Then head back up Main Street for food\, drinks\, and a relaxed finish \n\nWith longer days and more happening around town\, it’s a great time to be out and about.
URL:https://kenoshabreck.com/event/breckenridge-sunday-market-shop-stroll-main-street-afternoons-3/
LOCATION:Rocky Mountain Events\, Breckenridge\, CO\, 80424\, United States
CATEGORIES:Local Events & Happenings
ATTACH;FMTTYPE=image/png:https://kenoshabreck.com/wp-content/uploads/2026/03/Breckenridge-Sunday-Market-Main-Street-Summer_26.png
END:VEVENT
BEGIN:VEVENT
DTSTART;TZID=America/Denver:20260621T113000
DTEND;TZID=America/Denver:20260621T210000
DTSTAMP:20260425T161150
CREATED:20260420T054142Z
LAST-MODIFIED:20260423T192418Z
UID:4797-1782041400-1782075600@kenoshabreck.com
SUMMARY:Father’s Day Breckenridge | BBQ & Beer at Kenosha
DESCRIPTION:Father’s Day at Kenosha – Keep It Easy\, Keep It Good\nFather’s Day in Breckenridge lines up perfectly with the start of summer. As the town fills up\, patios open\, and the mountain comes alive\, it’s the perfect time to slow things down and enjoy a great meal with family. \nAt Kenosha\, we’re keeping it simple. We serve our full menu all day\, so everyone can order exactly what they want without dealing with limited holiday menus or long waits. \n\n🍺 A Cold One for Dad\nTo celebrate\, we’re raising a glass to Dad: \n🍺 Dad’s first beer is on usChoose a Coors Light draft or a Breckenridge Brew Pub beer — because he’s earned it. \nNo hoops\, no hassle — just show up and we’ll take care of the rest. \n\n🍖 Food Built for Dad\nFrom house-smoked BBQ and hand-cut steaks to stacked burgers and hearty plates\, this is the kind of menu Dad actually wants. \nWhether he’s a BBQ guy\, a burger guy\, or just here for the beer\, there’s something for everyone at the table. \n\n🍹 Sunday Specials + Happy Hour\nSince it’s Sunday\, the lineup is already dialed: \n• $5 off Smokehouse & Thai Chicken Salads \n• $6 Mimosas \n• $9 Bacon Bloody Mary \nMeanwhile\, Happy Hour runs from 3–5 PM\, making it an easy stop before or after your day around town. \n\n🌄 Deck Views & Summer Vibes\nIf the weather’s good (and it usually is)\, grab a seat on the deck and take in the energy of a busy Breckenridge summer day. With the Peak 8 Fun Park open and Main Street buzzing\, there’s plenty going on — but Kenosha stays easy. \n\n👨‍👩‍👧‍👦 Bring the Family\nNo reservations required. No prix fixe menus. Just a relaxed spot where Dad can kick back\, eat well\, and enjoy the day. \n\n🍻 Celebrate Father’s Day in Breckenridge\nSo\, make it simple this year. Bring Dad to Kenosha\, grab a table\, and let us handle the food and drinks.
URL:https://kenoshabreck.com/event/fathers-day-breckenridge-bbq-beer-at-kenosha/
LOCATION:Kenosha Breck\, 301 South Main Street\, Breckenridge\, CO\, 80424\, United States
CATEGORIES:Seasonal & Holiday Events
ATTACH;FMTTYPE=image/jpeg:https://kenoshabreck.com/wp-content/uploads/2025/04/Rad-Dads-June-15_2025.jpg
END:VEVENT
BEGIN:VEVENT
DTSTART;TZID=America/Denver:20260625T160000
DTEND;TZID=America/Denver:20260625T190000
DTSTAMP:20260425T161150
CREATED:20260422T192243Z
LAST-MODIFIED:20260422T192448Z
UID:4822-1782403200-1782414000@kenoshabreck.com
SUMMARY:Breckenridge Farmers Market | Local Food Thursdays
DESCRIPTION:Breckenridge Farmers Market | June 25\, 2026Thursdays | June 18 – September 24\, 2026 \n\nThere’s nothing better than a Thursday evening in Breckenridge with fresh food and mountain air. \nSpend your summer evenings exploring the Breckenridge Farmers Market. It’s a weekly celebration of fresh food\, local farms\, and handcrafted goods in the heart of downtown. \nHeld every Thursday from June through September\, this market brings together a curated mix of Colorado growers\, ranchers\, bakers\, and food artisans. It’s one of the best ways to experience the region’s local food scene. At the same time\, you can enjoy Breckenridge’s mountain-town charm. \nStroll through the market and discover seasonal produce\, farm-fresh dairy\, artisan bread\, small-batch jams\, mushrooms\, honey\, and more. In addition\, many vendors are happy to share their stories. This makes it easy to connect with the people behind the products. \nWhether you’re picking up ingredients for dinner\, grabbing a snack to enjoy on the go\, or simply browsing\, the Breckenridge Farmers Market offers a relaxed and welcoming atmosphere. \nLocated at The Exchange Lot (112 Washington Ave.)\, the market runs from 4:00 PM to 7:00 PM\, making it a perfect late-afternoon stop during your time in town. \n\n🍻 Make It a Thursday Tradition\nAfter walking the market\, head over to Kenosha Breck on Main Street to keep your Thursday going. \nEvery Thursday\, we feature: \n• $5 off BBQ Plates\n• $2 off Hoppy Beers \nMeanwhile\, Happy Hour runs daily from 3–5 PM. This makes it easy to start your afternoon before the market or wind down afterward. \nGrab a cold Colorado craft beer\, share some house-smoked BBQ\, and enjoy a laid-back evening just steps from downtown. \n\n🧺 Plan Your Visit\n• Visit the market between 4–7 PM\n• Support local farms and food producers\n• Enjoy a relaxed summer evening in Breckenridge \n👉 For updates\, schedules\, and vendor announcements\, visit the official Farmers Market website. \n\n🥕 Vendors\nVendor lists are typically updated closer to the season. Check back soon for a full lineup of farms\, food producers\, and local favorites participating in this year’s market. \n\nLonger days and cooler nights make this a perfect midweek outing.
URL:https://kenoshabreck.com/event/breckenridge-farmers-market-local-food-thursdays-17/
LOCATION:Jarman and Co. Events\, 640 Detroit Street\, Denver\, CO\, 80206\, United States
CATEGORIES:Local Events & Happenings
ATTACH;FMTTYPE=image/png:https://kenoshabreck.com/wp-content/uploads/2026/03/breckenridge-Farmers-Market-Local-Food-2026.png
END:VEVENT
BEGIN:VEVENT
DTSTART;TZID=America/Denver:20260628T100000
DTEND;TZID=America/Denver:20260628T150000
DTSTAMP:20260425T161150
CREATED:20260331T061921Z
LAST-MODIFIED:20260423T192014Z
UID:4714-1782640800-1782658800@kenoshabreck.com
SUMMARY:Breckenridge Sunday Market | Shop\, Stroll & Main Street Afternoons
DESCRIPTION:Breckenridge Sunday Market | June 28\, 2026\n\nLate June in Breckenridge brings a little extra energy to town\, and Sundays are no exception. \nSundays in Breckenridge are made for getting outside\, exploring town\, and enjoying a laid-back mountain afternoon. The Breckenridge Sunday Market\, brought to life by Rocky Mountain Events\, returns this summer with a lively mix of vendors\, handmade goods\, and local finds. \nRunning from 10:00 AM to 3:00 PM\, the market takes over Main Street Station and The Village at Breckenridge. You’ll find dozens of booths offering crafts\, art\, snacks\, and Colorado-made products. In addition\, it’s an easy way to spend a few hours soaking up the sunshine and enjoying the energy of a busy summer weekend. \n📍 Main Street Station🕙 10:00 AM – 3:00 PM🐶 Leashed and well-behaved dogs welcome \n\n🌞 Keep the Sunday Going on Main Street\nAfter the market\, it’s an easy walk back up Main Street. From there\, the afternoon really starts to open up. \nKenosha Breck is just a few minutes away. It’s a great next stop if you’re ready to relax after a morning of browsing. \n• The Best Deck in Breck is open and ready for sunshine• Dogs are always welcome on the pawtio 🐾• Colorado craft beer is flowing• Sunday specials are in full swing• Happy Hour kicks off at 3:00 PM \nWhether you’re winding down with a cold beer or grabbing a bite\, it’s an easy transition from market mode to a full Sunday afternoon. \n\n🧺 Plan Your Sunday\n• Start at the market (10 AM – 3 PM)• Take your time exploring Main Street Station• Then head back up Main Street for food\, drinks\, and a relaxed finish \n\nWith events like the Breckenridge Agave Festival around the corner\, the summer season is heating up.
URL:https://kenoshabreck.com/event/breckenridge-sunday-market-shop-stroll-main-street-afternoons-4/
LOCATION:Rocky Mountain Events\, Breckenridge\, CO\, 80424\, United States
CATEGORIES:Local Events & Happenings
ATTACH;FMTTYPE=image/png:https://kenoshabreck.com/wp-content/uploads/2026/03/Breckenridge-Sunday-Market-Main-Street-Summer_26.png
END:VEVENT
END:VCALENDAR