BEGIN:VCALENDAR
VERSION:2.0
PRODID:-//Kenosha Breck - ECPv6.15.20//NONSGML v1.0//EN
CALSCALE:GREGORIAN
METHOD:PUBLISH
X-ORIGINAL-URL:https://kenoshabreck.com
X-WR-CALDESC:Events for Kenosha Breck
REFRESH-INTERVAL;VALUE=DURATION:PT1H
X-Robots-Tag:noindex
X-PUBLISHED-TTL:PT1H
BEGIN:VTIMEZONE
TZID:America/Denver
BEGIN:DAYLIGHT
TZOFFSETFROM:-0700
TZOFFSETTO:-0600
TZNAME:MDT
DTSTART:20250309T090000
END:DAYLIGHT
BEGIN:STANDARD
TZOFFSETFROM:-0600
TZOFFSETTO:-0700
TZNAME:MST
DTSTART:20251102T080000
END:STANDARD
BEGIN:DAYLIGHT
TZOFFSETFROM:-0700
TZOFFSETTO:-0600
TZNAME:MDT
DTSTART:20260308T090000
END:DAYLIGHT
BEGIN:STANDARD
TZOFFSETFROM:-0600
TZOFFSETTO:-0700
TZNAME:MST
DTSTART:20261101T080000
END:STANDARD
BEGIN:DAYLIGHT
TZOFFSETFROM:-0700
TZOFFSETTO:-0600
TZNAME:MDT
DTSTART:20270314T090000
END:DAYLIGHT
BEGIN:STANDARD
TZOFFSETFROM:-0600
TZOFFSETTO:-0700
TZNAME:MST
DTSTART:20271107T080000
END:STANDARD
END:VTIMEZONE
BEGIN:VEVENT
DTSTART;TZID=America/Denver:20260702T160000
DTEND;TZID=America/Denver:20260702T190000
DTSTAMP:20260423T180638
CREATED:20260422T192825Z
LAST-MODIFIED:20260423T191936Z
UID:4825-1783008000-1783018800@kenoshabreck.com
SUMMARY:Breckenridge Farmers Market | Local Food Thursdays
DESCRIPTION:Breckenridge Farmers Market | July 2\, 2026Thursdays | June 18 – September 24\, 2026 \n\nJuly kicks off with some of the best evenings of the summer in Breckenridge. \nSpend your summer evenings exploring the Breckenridge Farmers Market. It’s a weekly celebration of fresh food\, local farms\, and handcrafted goods in the heart of downtown. \nHeld every Thursday from June through September\, this market brings together a curated mix of Colorado growers\, ranchers\, bakers\, and food artisans. It’s one of the best ways to experience the region’s local food scene. At the same time\, you can enjoy Breckenridge’s mountain-town charm. \nStroll through the market and discover seasonal produce\, farm-fresh dairy\, artisan bread\, small-batch jams\, mushrooms\, honey\, and more. In addition\, many vendors are happy to share their stories. This makes it easy to connect with the people behind the products. \nWhether you’re picking up ingredients for dinner\, grabbing a snack to enjoy on the go\, or simply browsing\, the Breckenridge Farmers Market offers a relaxed and welcoming atmosphere. \nLocated at The Exchange Lot (112 Washington Ave.)\, the market runs from 4:00 PM to 7:00 PM\, making it a perfect late-afternoon stop during your time in town. \n\n🍻 Make It a Thursday Tradition\nAfter walking the market\, head over to Kenosha Breck on Main Street to keep your Thursday going. \nEvery Thursday\, we feature: \n• $5 off BBQ Plates\n• $2 off Hoppy Beers \nMeanwhile\, Happy Hour runs daily from 3–5 PM. This makes it easy to start your afternoon before the market or wind down afterward. \nGrab a cold Colorado craft beer\, share some house-smoked BBQ\, and enjoy a laid-back evening just steps from downtown. \n\n🧺 Plan Your Visit\n• Visit the market between 4–7 PM\n• Support local farms and food producers\n• Enjoy a relaxed summer evening in Breckenridge \n👉 For updates\, schedules\, and vendor announcements\, visit the official Farmers Market website. \n\n🥕 Vendors\nVendor lists are typically updated closer to the season. Check back soon for a full lineup of farms\, food producers\, and local favorites participating in this year’s market. \n\nHoliday week energy makes this one of the liveliest times to be in town.
URL:https://kenoshabreck.com/event/breckenridge-farmers-market-local-food-thursdays-18/
LOCATION:Jarman and Co. Events\, 640 Detroit Street\, Denver\, CO\, 80206\, United States
CATEGORIES:Local Events & Happenings
ATTACH;FMTTYPE=image/png:https://kenoshabreck.com/wp-content/uploads/2026/03/breckenridge-Farmers-Market-Local-Food-2026.png
END:VEVENT
BEGIN:VEVENT
DTSTART;TZID=America/Denver:20260709T160000
DTEND;TZID=America/Denver:20260709T190000
DTSTAMP:20260423T180638
CREATED:20260422T211119Z
LAST-MODIFIED:20260423T191746Z
UID:4828-1783612800-1783623600@kenoshabreck.com
SUMMARY:Breckenridge Farmers Market | Local Food Thursdays
DESCRIPTION:Breckenridge Farmers Market | July 9\, 2026Thursdays | June 18 – September 24\, 2026 \n\nMid-summer brings peak produce and vibrant flavors to Breckenridge. \nSpend your summer evenings exploring the Breckenridge Farmers Market. It’s a weekly celebration of fresh food\, local farms\, and handcrafted goods in the heart of downtown. \nHeld every Thursday from June through September\, this market brings together a curated mix of Colorado growers\, ranchers\, bakers\, and food artisans. It’s one of the best ways to experience the region’s local food scene. At the same time\, you can enjoy Breckenridge’s mountain-town charm. \nStroll through the market and discover seasonal produce\, farm-fresh dairy\, artisan bread\, small-batch jams\, mushrooms\, honey\, and more. In addition\, many vendors are happy to share their stories. This makes it easy to connect with the people behind the products. \nWhether you’re picking up ingredients for dinner\, grabbing a snack to enjoy on the go\, or simply browsing\, the Breckenridge Farmers Market offers a relaxed and welcoming atmosphere. \nLocated at The Exchange Lot (112 Washington Ave.)\, the market runs from 4:00 PM to 7:00 PM\, making it a perfect late-afternoon stop during your time in town. \n\n🍻 Make It a Thursday Tradition\nAfter walking the market\, head over to Kenosha Breck on Main Street to keep your Thursday going. \nEvery Thursday\, we feature: \n• $5 off BBQ Plates\n• $2 off Hoppy Beers \nMeanwhile\, Happy Hour runs daily from 3–5 PM. This makes it easy to start your afternoon before the market or wind down afterward. \nGrab a cold Colorado craft beer\, share some house-smoked BBQ\, and enjoy a laid-back evening just steps from downtown. \n\n🧺 Plan Your Visit\n• Visit the market between 4–7 PM\n• Support local farms and food producers\n• Enjoy a relaxed summer evening in Breckenridge \n👉 For updates\, schedules\, and vendor announcements\, visit the official Farmers Market website. \n\n🥕 Vendors\nVendor lists are typically updated closer to the season. Check back soon for a full lineup of farms\, food producers\, and local favorites participating in this year’s market. \n\nIt’s the kind of evening that turns into a full night out downtown.
URL:https://kenoshabreck.com/event/breckenridge-farmers-market-local-food-thursdays-19/
LOCATION:Jarman and Co. Events\, 640 Detroit Street\, Denver\, CO\, 80206\, United States
CATEGORIES:Local Events & Happenings
ATTACH;FMTTYPE=image/png:https://kenoshabreck.com/wp-content/uploads/2026/03/breckenridge-Farmers-Market-Local-Food-2026.png
END:VEVENT
BEGIN:VEVENT
DTSTART;TZID=America/Denver:20260716T160000
DTEND;TZID=America/Denver:20260716T190000
DTSTAMP:20260423T180638
CREATED:20260422T211643Z
LAST-MODIFIED:20260423T191601Z
UID:4832-1784217600-1784228400@kenoshabreck.com
SUMMARY:Breckenridge Farmers Market | Local Food Thursdays
DESCRIPTION:Breckenridge Farmers Market | July 16\, 2026Thursdays | June 18 – September 24\, 2026 \n\nJuly is all about great food in Breckenridge\, and Thursdays are no exception. \nSpend your summer evenings exploring the Breckenridge Farmers Market. It’s a weekly celebration of fresh food\, local farms\, and handcrafted goods in the heart of downtown. \nHeld every Thursday from June through September\, this market brings together a curated mix of Colorado growers\, ranchers\, bakers\, and food artisans. It’s one of the best ways to experience the region’s local food scene. At the same time\, you can enjoy Breckenridge’s mountain-town charm. \nStroll through the market and discover seasonal produce\, farm-fresh dairy\, artisan bread\, small-batch jams\, mushrooms\, honey\, and more. In addition\, many vendors are happy to share their stories. This makes it easy to connect with the people behind the products. \nWhether you’re picking up ingredients for dinner\, grabbing a snack to enjoy on the go\, or simply browsing\, the Breckenridge Farmers Market offers a relaxed and welcoming atmosphere. \nLocated at The Exchange Lot (112 Washington Ave.)\, the market runs from 4:00 PM to 7:00 PM\, making it a perfect late-afternoon stop during your time in town. \n\n🍻 Make It a Thursday Tradition\nAfter walking the market\, head over to Kenosha Breck on Main Street to keep your Thursday going. \nEvery Thursday\, we feature: \n• $5 off BBQ Plates\n• $2 off Hoppy Beers \nMeanwhile\, Happy Hour runs daily from 3–5 PM. This makes it easy to start your afternoon before the market or wind down afterward. \nGrab a cold Colorado craft beer\, share some house-smoked BBQ\, and enjoy a laid-back evening just steps from downtown. \n\n🧺 Plan Your Visit\n• Visit the market between 4–7 PM\n• Support local farms and food producers\n• Enjoy a relaxed summer evening in Breckenridge \n👉 For updates\, schedules\, and vendor announcements\, visit the official Farmers Market website. \n\n🥕 Vendors\nVendor lists are typically updated closer to the season. Check back soon for a full lineup of farms\, food producers\, and local favorites participating in this year’s market. \n\nWith Breckenridge Food & Wine season underway\, the local food scene is shining.
URL:https://kenoshabreck.com/event/breckenridge-farmers-market-local-food-thursdays-20/
LOCATION:Jarman and Co. Events\, 640 Detroit Street\, Denver\, CO\, 80206\, United States
CATEGORIES:Local Events & Happenings
ATTACH;FMTTYPE=image/png:https://kenoshabreck.com/wp-content/uploads/2026/03/breckenridge-Farmers-Market-Local-Food-2026.png
END:VEVENT
BEGIN:VEVENT
DTSTART;TZID=America/Denver:20260723T160000
DTEND;TZID=America/Denver:20260723T190000
DTSTAMP:20260423T180638
CREATED:20260422T212137Z
LAST-MODIFIED:20260423T191356Z
UID:4835-1784822400-1784833200@kenoshabreck.com
SUMMARY:Breckenridge Farmers Market | Local Food Thursdays
DESCRIPTION:Breckenridge Farmers Market | July 23\, 2026Thursdays | June 18 – September 24\, 2026 \n\nWarm evenings and fresh ingredients define this time of year in Breckenridge. \nSpend your summer evenings exploring the Breckenridge Farmers Market. It’s a weekly celebration of fresh food\, local farms\, and handcrafted goods in the heart of downtown. \nHeld every Thursday from June through September\, this market brings together a curated mix of Colorado growers\, ranchers\, bakers\, and food artisans. It’s one of the best ways to experience the region’s local food scene. At the same time\, you can enjoy Breckenridge’s mountain-town charm. \nStroll through the market and discover seasonal produce\, farm-fresh dairy\, artisan bread\, small-batch jams\, mushrooms\, honey\, and more. In addition\, many vendors are happy to share their stories. This makes it easy to connect with the people behind the products. \nWhether you’re picking up ingredients for dinner\, grabbing a snack to enjoy on the go\, or simply browsing\, the Breckenridge Farmers Market offers a relaxed and welcoming atmosphere. \nLocated at The Exchange Lot (112 Washington Ave.)\, the market runs from 4:00 PM to 7:00 PM\, making it a perfect late-afternoon stop during your time in town. \n\n🍻 Make It a Thursday Tradition\nAfter walking the market\, head over to Kenosha Breck on Main Street to keep your Thursday going. \nEvery Thursday\, we feature: \n• $5 off BBQ Plates\n• $2 off Hoppy Beers \nMeanwhile\, Happy Hour runs daily from 3–5 PM. This makes it easy to start your afternoon before the market or wind down afterward. \nGrab a cold Colorado craft beer\, share some house-smoked BBQ\, and enjoy a laid-back evening just steps from downtown. \n\n🧺 Plan Your Visit\n• Visit the market between 4–7 PM\n• Support local farms and food producers\n• Enjoy a relaxed summer evening in Breckenridge \n👉 For updates\, schedules\, and vendor announcements\, visit the official Farmers Market website. \n\n🥕 Vendors\nVendor lists are typically updated closer to the season. Check back soon for a full lineup of farms\, food producers\, and local favorites participating in this year’s market. \n\nIt’s a great week to slow down and enjoy everything the town has to offer.
URL:https://kenoshabreck.com/event/breckenridge-farmers-market-local-food-thursdays-21/
LOCATION:Jarman and Co. Events\, 640 Detroit Street\, Denver\, CO\, 80206\, United States
CATEGORIES:Local Events & Happenings
ATTACH;FMTTYPE=image/png:https://kenoshabreck.com/wp-content/uploads/2026/03/breckenridge-Farmers-Market-Local-Food-2026.png
END:VEVENT
BEGIN:VEVENT
DTSTART;TZID=America/Denver:20260730T160000
DTEND;TZID=America/Denver:20260730T190000
DTSTAMP:20260423T180638
CREATED:20260422T212839Z
LAST-MODIFIED:20260423T191214Z
UID:4841-1785427200-1785438000@kenoshabreck.com
SUMMARY:Breckenridge Farmers Market | Local Food Thursdays
DESCRIPTION:Breckenridge Farmers Market | July 30\, 2026Thursdays | June 18 – September 24\, 2026 \n\nAs July winds down\, Breckenridge continues to deliver on summer evenings. \nSpend your summer evenings exploring the Breckenridge Farmers Market. It’s a weekly celebration of fresh food\, local farms\, and handcrafted goods in the heart of downtown. \nHeld every Thursday from June through September\, this market brings together a curated mix of Colorado growers\, ranchers\, bakers\, and food artisans. It’s one of the best ways to experience the region’s local food scene. At the same time\, you can enjoy Breckenridge’s mountain-town charm. \nStroll through the market and discover seasonal produce\, farm-fresh dairy\, artisan bread\, small-batch jams\, mushrooms\, honey\, and more. In addition\, many vendors are happy to share their stories. This makes it easy to connect with the people behind the products. \nWhether you’re picking up ingredients for dinner\, grabbing a snack to enjoy on the go\, or simply browsing\, the Breckenridge Farmers Market offers a relaxed and welcoming atmosphere. \nLocated at The Exchange Lot (112 Washington Ave.)\, the market runs from 4:00 PM to 7:00 PM\, making it a perfect late-afternoon stop during your time in town. \n\n🍻 Make It a Thursday Tradition\nAfter walking the market\, head over to Kenosha Breck on Main Street to keep your Thursday going. \nEvery Thursday\, we feature: \n• $5 off BBQ Plates\n• $2 off Hoppy Beers \nMeanwhile\, Happy Hour runs daily from 3–5 PM. This makes it easy to start your afternoon before the market or wind down afterward. \nGrab a cold Colorado craft beer\, share some house-smoked BBQ\, and enjoy a laid-back evening just steps from downtown. \n\n🧺 Plan Your Visit\n• Visit the market between 4–7 PM\n• Support local farms and food producers\n• Enjoy a relaxed summer evening in Breckenridge \n👉 For updates\, schedules\, and vendor announcements\, visit the official Farmers Market website. \n\n🥕 Vendors\nVendor lists are typically updated closer to the season. Check back soon for a full lineup of farms\, food producers\, and local favorites participating in this year’s market. \n\nThis stretch of summer is all about soaking it all in.
URL:https://kenoshabreck.com/event/breckenridge-farmers-market-local-food-thursdays-22/
LOCATION:Jarman and Co. Events\, 640 Detroit Street\, Denver\, CO\, 80206\, United States
CATEGORIES:Local Events & Happenings
ATTACH;FMTTYPE=image/png:https://kenoshabreck.com/wp-content/uploads/2026/03/breckenridge-Farmers-Market-Local-Food-2026.png
END:VEVENT
END:VCALENDAR