BEGIN:VCALENDAR
VERSION:2.0
PRODID:-//Kenosha Breck - ECPv6.15.20//NONSGML v1.0//EN
CALSCALE:GREGORIAN
METHOD:PUBLISH
X-WR-CALNAME:Kenosha Breck
X-ORIGINAL-URL:https://kenoshabreck.com
X-WR-CALDESC:Events for Kenosha Breck
REFRESH-INTERVAL;VALUE=DURATION:PT1H
X-Robots-Tag:noindex
X-PUBLISHED-TTL:PT1H
BEGIN:VTIMEZONE
TZID:America/Denver
BEGIN:DAYLIGHT
TZOFFSETFROM:-0700
TZOFFSETTO:-0600
TZNAME:MDT
DTSTART:20250309T090000
END:DAYLIGHT
BEGIN:STANDARD
TZOFFSETFROM:-0600
TZOFFSETTO:-0700
TZNAME:MST
DTSTART:20251102T080000
END:STANDARD
BEGIN:DAYLIGHT
TZOFFSETFROM:-0700
TZOFFSETTO:-0600
TZNAME:MDT
DTSTART:20260308T090000
END:DAYLIGHT
BEGIN:STANDARD
TZOFFSETFROM:-0600
TZOFFSETTO:-0700
TZNAME:MST
DTSTART:20261101T080000
END:STANDARD
BEGIN:DAYLIGHT
TZOFFSETFROM:-0700
TZOFFSETTO:-0600
TZNAME:MDT
DTSTART:20270314T090000
END:DAYLIGHT
BEGIN:STANDARD
TZOFFSETFROM:-0600
TZOFFSETTO:-0700
TZNAME:MST
DTSTART:20271107T080000
END:STANDARD
END:VTIMEZONE
BEGIN:VEVENT
DTSTART;VALUE=DATE:20260427
DTEND;VALUE=DATE:20260501
DTSTAMP:20260423T191912
CREATED:20260407T052920Z
LAST-MODIFIED:20260423T192714Z
UID:4770-1777248000-1777593599@kenoshabreck.com
SUMMARY:Deep Clean Days at Kenosha & Rita’s | Closed April 27-30
DESCRIPTION:🧼 Deep Clean Days at Kenosha\n\nKenosha Breck will be closed April 27–30 for our annual deep clean. \nOnce a year\, we shut things down completely and give the restaurant a full reset. That means breaking down equipment\, scrubbing every surface\, deep cleaning the kitchen and bar\, and getting into all the spots that don’t get attention during the day-to-day grind. \nFrom the keg cooler to the cook line\, from the walls to the floors\, our team goes all in. It’s not the glamorous side of the business\, but it’s what keeps everything running smoothly — and tasting the way it should. \nWe’ll reopen Friday\, May 1 with regular hours\, cold beers on tap\, and everything back in action. \nThanks for your patience — we’ll see you right after the reset.
URL:https://kenoshabreck.com/event/deep-clean-days-at-kenosha-ritas-closed-april-22-23/
LOCATION:Kenosha Breck\, 301 South Main Street\, Breckenridge\, CO\, 80424\, United States
END:VEVENT
END:VCALENDAR