BEGIN:VCALENDAR
VERSION:2.0
PRODID:-//Kenosha Breck - ECPv6.15.20//NONSGML v1.0//EN
CALSCALE:GREGORIAN
METHOD:PUBLISH
X-WR-CALNAME:Kenosha Breck
X-ORIGINAL-URL:https://kenoshabreck.com
X-WR-CALDESC:Events for Kenosha Breck
REFRESH-INTERVAL;VALUE=DURATION:PT1H
X-Robots-Tag:noindex
X-PUBLISHED-TTL:PT1H
BEGIN:VTIMEZONE
TZID:America/Denver
BEGIN:DAYLIGHT
TZOFFSETFROM:-0700
TZOFFSETTO:-0600
TZNAME:MDT
DTSTART:20250309T090000
END:DAYLIGHT
BEGIN:STANDARD
TZOFFSETFROM:-0600
TZOFFSETTO:-0700
TZNAME:MST
DTSTART:20251102T080000
END:STANDARD
BEGIN:DAYLIGHT
TZOFFSETFROM:-0700
TZOFFSETTO:-0600
TZNAME:MDT
DTSTART:20260308T090000
END:DAYLIGHT
BEGIN:STANDARD
TZOFFSETFROM:-0600
TZOFFSETTO:-0700
TZNAME:MST
DTSTART:20261101T080000
END:STANDARD
BEGIN:DAYLIGHT
TZOFFSETFROM:-0700
TZOFFSETTO:-0600
TZNAME:MDT
DTSTART:20270314T090000
END:DAYLIGHT
BEGIN:STANDARD
TZOFFSETFROM:-0600
TZOFFSETTO:-0700
TZNAME:MST
DTSTART:20271107T080000
END:STANDARD
END:VTIMEZONE
BEGIN:VEVENT
DTSTART;TZID=America/Denver:20260628T100000
DTEND;TZID=America/Denver:20260628T150000
DTSTAMP:20260423T180414
CREATED:20260331T061921Z
LAST-MODIFIED:20260423T192014Z
UID:4714-1782640800-1782658800@kenoshabreck.com
SUMMARY:Breckenridge Sunday Market | Shop\, Stroll & Main Street Afternoons
DESCRIPTION:Breckenridge Sunday Market | June 28\, 2026\n\nLate June in Breckenridge brings a little extra energy to town\, and Sundays are no exception. \nSundays in Breckenridge are made for getting outside\, exploring town\, and enjoying a laid-back mountain afternoon. The Breckenridge Sunday Market\, brought to life by Rocky Mountain Events\, returns this summer with a lively mix of vendors\, handmade goods\, and local finds. \nRunning from 10:00 AM to 3:00 PM\, the market takes over Main Street Station and The Village at Breckenridge. You’ll find dozens of booths offering crafts\, art\, snacks\, and Colorado-made products. In addition\, it’s an easy way to spend a few hours soaking up the sunshine and enjoying the energy of a busy summer weekend. \n📍 Main Street Station🕙 10:00 AM – 3:00 PM🐶 Leashed and well-behaved dogs welcome \n\n🌞 Keep the Sunday Going on Main Street\nAfter the market\, it’s an easy walk back up Main Street. From there\, the afternoon really starts to open up. \nKenosha Breck is just a few minutes away. It’s a great next stop if you’re ready to relax after a morning of browsing. \n• The Best Deck in Breck is open and ready for sunshine• Dogs are always welcome on the pawtio 🐾• Colorado craft beer is flowing• Sunday specials are in full swing• Happy Hour kicks off at 3:00 PM \nWhether you’re winding down with a cold beer or grabbing a bite\, it’s an easy transition from market mode to a full Sunday afternoon. \n\n🧺 Plan Your Sunday\n• Start at the market (10 AM – 3 PM)• Take your time exploring Main Street Station• Then head back up Main Street for food\, drinks\, and a relaxed finish \n\nWith events like the Breckenridge Agave Festival around the corner\, the summer season is heating up.
URL:https://kenoshabreck.com/event/breckenridge-sunday-market-shop-stroll-main-street-afternoons-4/
LOCATION:Rocky Mountain Events\, Breckenridge\, CO\, 80424\, United States
CATEGORIES:Local Events & Happenings
ATTACH;FMTTYPE=image/png:https://kenoshabreck.com/wp-content/uploads/2026/03/Breckenridge-Sunday-Market-Main-Street-Summer_26.png
END:VEVENT
END:VCALENDAR