BEGIN:VCALENDAR
VERSION:2.0
PRODID:-//Kenosha Breck - ECPv6.15.20//NONSGML v1.0//EN
CALSCALE:GREGORIAN
METHOD:PUBLISH
X-WR-CALNAME:Kenosha Breck
X-ORIGINAL-URL:https://kenoshabreck.com
X-WR-CALDESC:Events for Kenosha Breck
REFRESH-INTERVAL;VALUE=DURATION:PT1H
X-Robots-Tag:noindex
X-PUBLISHED-TTL:PT1H
BEGIN:VTIMEZONE
TZID:America/Denver
BEGIN:DAYLIGHT
TZOFFSETFROM:-0700
TZOFFSETTO:-0600
TZNAME:MDT
DTSTART:20250309T090000
END:DAYLIGHT
BEGIN:STANDARD
TZOFFSETFROM:-0600
TZOFFSETTO:-0700
TZNAME:MST
DTSTART:20251102T080000
END:STANDARD
BEGIN:DAYLIGHT
TZOFFSETFROM:-0700
TZOFFSETTO:-0600
TZNAME:MDT
DTSTART:20260308T090000
END:DAYLIGHT
BEGIN:STANDARD
TZOFFSETFROM:-0600
TZOFFSETTO:-0700
TZNAME:MST
DTSTART:20261101T080000
END:STANDARD
BEGIN:DAYLIGHT
TZOFFSETFROM:-0700
TZOFFSETTO:-0600
TZNAME:MDT
DTSTART:20270314T090000
END:DAYLIGHT
BEGIN:STANDARD
TZOFFSETFROM:-0600
TZOFFSETTO:-0700
TZNAME:MST
DTSTART:20271107T080000
END:STANDARD
END:VTIMEZONE
BEGIN:VEVENT
DTSTART;TZID=America/Denver:20260525T113000
DTEND;TZID=America/Denver:20260525T210000
DTSTAMP:20260423T134438
CREATED:20260331T051801Z
LAST-MODIFIED:20260402T183617Z
UID:4701-1779708600-1779742800@kenoshabreck.com
SUMMARY:Memorial Day Breckenridge | Memorial Day at Kenosha
DESCRIPTION:🇺🇸 Memorial Day Breckenridge at Kenosha 🇺🇸\nMonday\, May 25\, 2026 | 11:30 AM – 9:00 PM \nMemorial Day in Breckenridge marks the unofficial start of summer — and there’s no better place to spend it than right on Main Street at Kenosha. \nWhile the long weekend brings sunshine\, patio season\, and that first real taste of summer in the mountains\, Memorial Day is also a time to pause and remember the men and women who gave their lives in service to our country. At Kenosha\, we keep things relaxed\, but we don’t lose sight of what the day stands for. \n\n🇺🇸 A Moment to Remember\nAt 3:00 PM\, we invite guests to join us for a brief\, respectful pause as part of the National Moment of Remembrance. Whether you’re on the deck\, at the bar\, or grabbing a bite\, it’s a chance to take a second and reflect. \n🍺 A Small Thank You\nActive duty and retired military members are invited to enjoy a complimentary Coors Light (on tap) — just show your military ID at the bar. It’s a simple way for us to say thank you. \n\n☀️ Kick Off Summer in Breck\nMemorial Day weekend also means the return of longer days\, warmer weather\, and a full lineup of events happening around town. Our friends at GoBreck keep the calendar stacked\, making it one of the best times to visit. \nAt Kenosha\, you’ll find: \n• 🍔 House-smoked BBQ\, burgers\, and comfort food favorites\n• 🍺 30+ craft beers on tap\, featuring Colorado breweries\n• 🍹 Cocktails\, mules\, and margaritas ready for patio season\n• 🐶 A dog-friendly deck (because it’s not summer without your pup) \nLocated just steps from the Riverwalk and Main Street events\, Kenosha is an easy stop whether you’re exploring town\, finishing a hike\, or settling in for the afternoon. \nNo tickets. No cover. Just good food\, cold drinks\, and a place to spend Memorial Day in Breckenridge.
URL:https://kenoshabreck.com/event/memorial-day-breckenridge-memorial-day-at-kenosha/
LOCATION:Kenosha Breck\, 301 South Main Street\, Breckenridge\, CO\, 80424\, United States
CATEGORIES:Seasonal & Holiday Events
END:VEVENT
END:VCALENDAR