BEGIN:VCALENDAR
VERSION:2.0
PRODID:-//Kenosha Breck - ECPv6.15.20//NONSGML v1.0//EN
CALSCALE:GREGORIAN
METHOD:PUBLISH
X-WR-CALNAME:Kenosha Breck
X-ORIGINAL-URL:https://kenoshabreck.com
X-WR-CALDESC:Events for Kenosha Breck
REFRESH-INTERVAL;VALUE=DURATION:PT1H
X-Robots-Tag:noindex
X-PUBLISHED-TTL:PT1H
BEGIN:VTIMEZONE
TZID:America/Denver
BEGIN:DAYLIGHT
TZOFFSETFROM:-0700
TZOFFSETTO:-0600
TZNAME:MDT
DTSTART:20250309T090000
END:DAYLIGHT
BEGIN:STANDARD
TZOFFSETFROM:-0600
TZOFFSETTO:-0700
TZNAME:MST
DTSTART:20251102T080000
END:STANDARD
BEGIN:DAYLIGHT
TZOFFSETFROM:-0700
TZOFFSETTO:-0600
TZNAME:MDT
DTSTART:20260308T090000
END:DAYLIGHT
BEGIN:STANDARD
TZOFFSETFROM:-0600
TZOFFSETTO:-0700
TZNAME:MST
DTSTART:20261101T080000
END:STANDARD
BEGIN:DAYLIGHT
TZOFFSETFROM:-0700
TZOFFSETTO:-0600
TZNAME:MDT
DTSTART:20270314T090000
END:DAYLIGHT
BEGIN:STANDARD
TZOFFSETFROM:-0600
TZOFFSETTO:-0700
TZNAME:MST
DTSTART:20271107T080000
END:STANDARD
END:VTIMEZONE
BEGIN:VEVENT
DTSTART;TZID=America/Denver:20260802T100000
DTEND;TZID=America/Denver:20260802T150000
DTSTAMP:20260423T182221
CREATED:20260402T161341Z
LAST-MODIFIED:20260423T191104Z
UID:4739-1785664800-1785682800@kenoshabreck.com
SUMMARY:Breckenridge Sunday Market | Shop\, Stroll & Main Street Afternoons
DESCRIPTION:Breckenridge Sunday Market | August 2\, 2026\n\nAugust arrives with peak summer energy in Breckenridge\, and Sundays keep it rolling. \nSundays in Breckenridge are made for getting outside\, exploring town\, and enjoying a laid-back mountain afternoon. The Breckenridge Sunday Market\, brought to life by Rocky Mountain Events\, returns this summer with a lively mix of vendors\, handmade goods\, and local finds. \nRunning from 10:00 AM to 3:00 PM\, the market takes over Main Street Station and The Village at Breckenridge. You’ll find dozens of booths offering crafts\, art\, snacks\, and Colorado-made products. In addition\, it’s an easy way to spend a few hours soaking up the sunshine and enjoying the energy of a busy summer weekend. \n📍 Main Street Station🕙 10:00 AM – 3:00 PM🐶 Leashed and well-behaved dogs welcome \n\n🌞 Keep the Sunday Going on Main Street\nAfter the market\, it’s an easy walk back up Main Street. From there\, the afternoon really starts to open up. \nKenosha Breck is just a few minutes away. It’s a great next stop if you’re ready to relax after a morning of browsing. \n• The Best Deck in Breck is open and ready for sunshine• Dogs are always welcome on the pawtio 🐾• Colorado craft beer is flowing• Sunday specials are in full swing• Happy Hour kicks off at 3:00 PM \nWhether you’re winding down with a cold beer or grabbing a bite\, it’s an easy transition from market mode to a full Sunday afternoon. \n\n🧺 Plan Your Sunday\n• Start at the market (10 AM – 3 PM)• Take your time exploring Main Street Station• Then head back up Main Street for food\, drinks\, and a relaxed finish \n\nThis is the heart of the season — and it shows all around town.
URL:https://kenoshabreck.com/event/breckenridge-sunday-market-shop-stroll-main-street-afternoons-9/
LOCATION:Rocky Mountain Events\, Breckenridge\, CO\, 80424\, United States
CATEGORIES:Local Events & Happenings
ATTACH;FMTTYPE=image/png:https://kenoshabreck.com/wp-content/uploads/2026/03/Breckenridge-Sunday-Market-Main-Street-Summer_26.png
END:VEVENT
BEGIN:VEVENT
DTSTART;TZID=America/Denver:20260809T100000
DTEND;TZID=America/Denver:20260809T150000
DTSTAMP:20260423T182221
CREATED:20260402T162058Z
LAST-MODIFIED:20260423T190921Z
UID:4742-1786269600-1786287600@kenoshabreck.com
SUMMARY:Breckenridge Sunday Market | Shop\, Stroll & Main Street Afternoons
DESCRIPTION:Breckenridge Sunday Market | August 9\, 2026\n\nBy early August\, Breckenridge is in full summer mode from morning to night. \nSundays in Breckenridge are made for getting outside\, exploring town\, and enjoying a laid-back mountain afternoon. The Breckenridge Sunday Market\, brought to life by Rocky Mountain Events\, returns this summer with a lively mix of vendors\, handmade goods\, and local finds. \nRunning from 10:00 AM to 3:00 PM\, the market takes over Main Street Station and The Village at Breckenridge. You’ll find dozens of booths offering crafts\, art\, snacks\, and Colorado-made products. In addition\, it’s an easy way to spend a few hours soaking up the sunshine and enjoying the energy of a busy summer weekend. \n📍 Main Street Station🕙 10:00 AM – 3:00 PM🐶 Leashed and well-behaved dogs welcome \n\n🌞 Keep the Sunday Going on Main Street\nAfter the market\, it’s an easy walk back up Main Street. From there\, the afternoon really starts to open up. \nKenosha Breck is just a few minutes away. It’s a great next stop if you’re ready to relax after a morning of browsing. \n• The Best Deck in Breck is open and ready for sunshine• Dogs are always welcome on the pawtio 🐾• Colorado craft beer is flowing• Sunday specials are in full swing• Happy Hour kicks off at 3:00 PM \nWhether you’re winding down with a cold beer or grabbing a bite\, it’s an easy transition from market mode to a full Sunday afternoon. \n\n🧺 Plan Your Sunday\n• Start at the market (10 AM – 3 PM)• Take your time exploring Main Street Station• Then head back up Main Street for food\, drinks\, and a relaxed finish \n\nIt’s the kind of day where you don’t need a plan — just a place to start.
URL:https://kenoshabreck.com/event/breckenridge-sunday-market-shop-stroll-main-street-afternoons-10/
LOCATION:CO
CATEGORIES:Local Events & Happenings
ATTACH;FMTTYPE=image/png:https://kenoshabreck.com/wp-content/uploads/2026/03/Breckenridge-Sunday-Market-Main-Street-Summer_26.png
END:VEVENT
BEGIN:VEVENT
DTSTART;TZID=America/Denver:20260816T100000
DTEND;TZID=America/Denver:20260816T150000
DTSTAMP:20260423T182221
CREATED:20260402T162745Z
LAST-MODIFIED:20260423T190744Z
UID:4746-1786874400-1786892400@kenoshabreck.com
SUMMARY:Breckenridge Sunday Market | Shop\, Stroll & Main Street Afternoons
DESCRIPTION:Breckenridge Sunday Market | August 16\, 2026\n\nAugust in Breckenridge brings big events\, great weather\, and plenty of reasons to get outside. \nSundays in Breckenridge are made for getting outside\, exploring town\, and enjoying a laid-back mountain afternoon. The Breckenridge Sunday Market\, brought to life by Rocky Mountain Events\, returns this summer with a lively mix of vendors\, handmade goods\, and local finds. \nRunning from 10:00 AM to 3:00 PM\, the market takes over Main Street Station and The Village at Breckenridge. You’ll find dozens of booths offering crafts\, art\, snacks\, and Colorado-made products. In addition\, it’s an easy way to spend a few hours soaking up the sunshine and enjoying the energy of a busy summer weekend. \n📍 Main Street Station🕙 10:00 AM – 3:00 PM🐶 Leashed and well-behaved dogs welcome \n\n🌞 Keep the Sunday Going on Main Street\nAfter the market\, it’s an easy walk back up Main Street. From there\, the afternoon really starts to open up. \nKenosha Breck is just a few minutes away. It’s a great next stop if you’re ready to relax after a morning of browsing. \n• The Best Deck in Breck is open and ready for sunshine• Dogs are always welcome on the pawtio 🐾• Colorado craft beer is flowing• Sunday specials are in full swing• Happy Hour kicks off at 3:00 PM \nWhether you’re winding down with a cold beer or grabbing a bite\, it’s an easy transition from market mode to a full Sunday afternoon. \n\n🧺 Plan Your Sunday\n• Start at the market (10 AM – 3 PM)• Take your time exploring Main Street Station• Then head back up Main Street for food\, drinks\, and a relaxed finish \n\nWith Breckenridge Hogfest in the mix\, the food scene around town is having a moment.
URL:https://kenoshabreck.com/event/breckenridge-sunday-market-shop-stroll-main-street-afternoons-11/
LOCATION:Rocky Mountain Events\, Breckenridge\, CO\, 80424\, United States
CATEGORIES:Local Events & Happenings
ATTACH;FMTTYPE=image/png:https://kenoshabreck.com/wp-content/uploads/2026/03/Breckenridge-Sunday-Market-Main-Street-Summer_26.png
END:VEVENT
BEGIN:VEVENT
DTSTART;TZID=America/Denver:20260823T100000
DTEND;TZID=America/Denver:20260823T150000
DTSTAMP:20260423T182221
CREATED:20260402T164449Z
LAST-MODIFIED:20260423T190419Z
UID:4750-1787479200-1787497200@kenoshabreck.com
SUMMARY:Breckenridge Sunday Market | Shop\, Stroll & Main Street Afternoons
DESCRIPTION:Breckenridge Sunday Market | August 23\, 2026\n\nLate August Sundays in Breckenridge come with a slightly more relaxed pace. \nSundays in Breckenridge are made for getting outside\, exploring town\, and enjoying a laid-back mountain afternoon. The Breckenridge Sunday Market\, brought to life by Rocky Mountain Events\, returns this summer with a lively mix of vendors\, handmade goods\, and local finds. \nRunning from 10:00 AM to 3:00 PM\, the market takes over Main Street Station and The Village at Breckenridge. You’ll find dozens of booths offering crafts\, art\, snacks\, and Colorado-made products. In addition\, it’s an easy way to spend a few hours soaking up the sunshine and enjoying the energy of a busy summer weekend. \n📍 Main Street Station🕙 10:00 AM – 3:00 PM🐶 Leashed and well-behaved dogs welcome \n\n🌞 Keep the Sunday Going on Main Street\nAfter the market\, it’s an easy walk back up Main Street. From there\, the afternoon really starts to open up. \nKenosha Breck is just a few minutes away. It’s a great next stop if you’re ready to relax after a morning of browsing. \n• The Best Deck in Breck is open and ready for sunshine• Dogs are always welcome on the pawtio 🐾• Colorado craft beer is flowing• Sunday specials are in full swing• Happy Hour kicks off at 3:00 PM \nWhether you’re winding down with a cold beer or grabbing a bite\, it’s an easy transition from market mode to a full Sunday afternoon. \n\n🧺 Plan Your Sunday\n• Start at the market (10 AM – 3 PM)• Take your time exploring Main Street Station• Then head back up Main Street for food\, drinks\, and a relaxed finish \n\nIt’s a great time to enjoy the last stretch of summer before fall starts to creep in.
URL:https://kenoshabreck.com/event/breckenridge-sunday-market-shop-stroll-main-street-afternoons-12/
LOCATION:Rocky Mountain Events\, Breckenridge\, CO\, 80424\, United States
CATEGORIES:Local Events & Happenings
ATTACH;FMTTYPE=image/png:https://kenoshabreck.com/wp-content/uploads/2026/03/Breckenridge-Sunday-Market-Main-Street-Summer_26.png
END:VEVENT
BEGIN:VEVENT
DTSTART;TZID=America/Denver:20260830T100000
DTEND;TZID=America/Denver:20260830T150000
DTSTAMP:20260423T182221
CREATED:20260402T164941Z
LAST-MODIFIED:20260423T190149Z
UID:4753-1788084000-1788102000@kenoshabreck.com
SUMMARY:Breckenridge Sunday Market | Shop\, Stroll & Main Street Afternoons
DESCRIPTION:Breckenridge Sunday Market | August 30\, 2026\n\nAs summer starts to wind down\, Breckenridge still brings plenty of life to its Sundays. \nSundays in Breckenridge are made for getting outside\, exploring town\, and enjoying a laid-back mountain afternoon. The Breckenridge Sunday Market\, brought to life by Rocky Mountain Events\, returns this summer with a lively mix of vendors\, handmade goods\, and local finds. \nRunning from 10:00 AM to 3:00 PM\, the market takes over Main Street Station and The Village at Breckenridge. You’ll find dozens of booths offering crafts\, art\, snacks\, and Colorado-made products. In addition\, it’s an easy way to spend a few hours soaking up the sunshine and enjoying the energy of a busy summer weekend. \n📍 Main Street Station🕙 10:00 AM – 3:00 PM🐶 Leashed and well-behaved dogs welcome \n\n🌞 Keep the Sunday Going on Main Street\nAfter the market\, it’s an easy walk back up Main Street. From there\, the afternoon really starts to open up. \nKenosha Breck is just a few minutes away. It’s a great next stop if you’re ready to relax after a morning of browsing. \n• The Best Deck in Breck is open and ready for sunshine• Dogs are always welcome on the pawtio 🐾• Colorado craft beer is flowing• Sunday specials are in full swing• Happy Hour kicks off at 3:00 PM \nWhether you’re winding down with a cold beer or grabbing a bite\, it’s an easy transition from market mode to a full Sunday afternoon. \n\n🧺 Plan Your Sunday\n• Start at the market (10 AM – 3 PM)• Take your time exploring Main Street Station• Then head back up Main Street for food\, drinks\, and a relaxed finish \n\nThese are the Hogfest weekends you’ll want to soak up before the seasons shift.
URL:https://kenoshabreck.com/event/breckenridge-sunday-market-shop-stroll-main-street-afternoons-13/
LOCATION:CO
CATEGORIES:Local Events & Happenings
ATTACH;FMTTYPE=image/png:https://kenoshabreck.com/wp-content/uploads/2026/03/Breckenridge-Sunday-Market-Main-Street-Summer_26.png
END:VEVENT
END:VCALENDAR