BEGIN:VCALENDAR
VERSION:2.0
PRODID:-//Kenosha Breck - ECPv6.15.20//NONSGML v1.0//EN
CALSCALE:GREGORIAN
METHOD:PUBLISH
X-WR-CALNAME:Kenosha Breck
X-ORIGINAL-URL:https://kenoshabreck.com
X-WR-CALDESC:Events for Kenosha Breck
REFRESH-INTERVAL;VALUE=DURATION:PT1H
X-Robots-Tag:noindex
X-PUBLISHED-TTL:PT1H
BEGIN:VTIMEZONE
TZID:America/Denver
BEGIN:DAYLIGHT
TZOFFSETFROM:-0700
TZOFFSETTO:-0600
TZNAME:MDT
DTSTART:20250309T090000
END:DAYLIGHT
BEGIN:STANDARD
TZOFFSETFROM:-0600
TZOFFSETTO:-0700
TZNAME:MST
DTSTART:20251102T080000
END:STANDARD
BEGIN:DAYLIGHT
TZOFFSETFROM:-0700
TZOFFSETTO:-0600
TZNAME:MDT
DTSTART:20260308T090000
END:DAYLIGHT
BEGIN:STANDARD
TZOFFSETFROM:-0600
TZOFFSETTO:-0700
TZNAME:MST
DTSTART:20261101T080000
END:STANDARD
BEGIN:DAYLIGHT
TZOFFSETFROM:-0700
TZOFFSETTO:-0600
TZNAME:MDT
DTSTART:20270314T090000
END:DAYLIGHT
BEGIN:STANDARD
TZOFFSETFROM:-0600
TZOFFSETTO:-0700
TZNAME:MST
DTSTART:20271107T080000
END:STANDARD
END:VTIMEZONE
BEGIN:VEVENT
DTSTART;TZID=America/Denver:20260405T113000
DTEND;TZID=America/Denver:20260405T210000
DTSTAMP:20260423T133618
CREATED:20260302T055657Z
LAST-MODIFIED:20260405T180353Z
UID:4644-1775388600-1775422800@kenoshabreck.com
SUMMARY:Easter Sunday Breckenridge | Family Feast at Kenosha
DESCRIPTION:Easter Sunday at Kenosha – A Family Feast Without the Fuss\nEaster Sunday Breckenridge celebrations don’t have to mean crowded brunch lines or fixed holiday menus. \nAt Kenosha\, we’re keeping it simple. No reservations. No prix fixe. Just our full menu available all day so everyone at the table can order what they actually want. \nBring the whole family and settle in. \nWhether that’s stacked burgers\, house-smoked BBQ\, hand-cut steaks\, fresh salads\, or comfort food classics\, there’s something for everyone. \nIf you’re dining with a group of four or more\, we’ll treat the table to an appetizer on us as a thank you for choosing Kenosha for your Easter gathering — just be sure to show this event page to your server to redeem. (Thanks Alex!) \n\nCraft Beer & Sunday Specials\nMeanwhile\, our rotating craft beer lineup will be pouring 30+ taps of Colorado favorites\, crisp lagers\, bold IPAs\, and seasonal selections. If you’re looking for something lighter\, mimosas and Bloody Marys are available — just without the formal brunch scene. \nBecause it’s a Sunday\, our Sunday specials will be running all day: \n• $5 off Smokehouse & Thai Chicken Salads• $6 Mimosas• $9 Bacon Bloody Mary \nHappy Hour also runs from 3–5 PM (excluding Saturdays)\, making Kenosha an easy stop before or after downtown plans. \n\nDowntown Easter Plans\nIf you’re attending church services earlier in the day\, you can find local Mass schedules through St. Mary Catholic Church in Breckenridge or by visiting SummitDaily.com for a full calendar of Easter Sunday Breckenridge events. \nAfterward\, swing by Kenosha for a relaxed meal and a cold beer — no reservations required. \nIf spring sunshine cooperates\, our deck may even be open early. And if it snows? Even better. Nothing says mountain Easter like comfort food after a surprise powder day. \nNo stress. No brunch pressure. Just good food\, strong pours\, and a welcoming downtown atmosphere. \nBring the family. We’ll handle the rest.
URL:https://kenoshabreck.com/event/easter-sunday-breckenridge-family-feast-at-kenosha/
LOCATION:Kenosha Breck\, 301 South Main Street\, Breckenridge\, CO\, 80424\, United States
CATEGORIES:Seasonal & Holiday Events
END:VEVENT
END:VCALENDAR