BEGIN:VCALENDAR
VERSION:2.0
PRODID:-//Kenosha Breck - ECPv6.15.20//NONSGML v1.0//EN
CALSCALE:GREGORIAN
METHOD:PUBLISH
X-WR-CALNAME:Kenosha Breck
X-ORIGINAL-URL:https://kenoshabreck.com
X-WR-CALDESC:Events for Kenosha Breck
REFRESH-INTERVAL;VALUE=DURATION:PT1H
X-Robots-Tag:noindex
X-PUBLISHED-TTL:PT1H
BEGIN:VTIMEZONE
TZID:America/Denver
BEGIN:DAYLIGHT
TZOFFSETFROM:-0700
TZOFFSETTO:-0600
TZNAME:MDT
DTSTART:20250309T090000
END:DAYLIGHT
BEGIN:STANDARD
TZOFFSETFROM:-0600
TZOFFSETTO:-0700
TZNAME:MST
DTSTART:20251102T080000
END:STANDARD
BEGIN:DAYLIGHT
TZOFFSETFROM:-0700
TZOFFSETTO:-0600
TZNAME:MDT
DTSTART:20260308T090000
END:DAYLIGHT
BEGIN:STANDARD
TZOFFSETFROM:-0600
TZOFFSETTO:-0700
TZNAME:MST
DTSTART:20261101T080000
END:STANDARD
BEGIN:DAYLIGHT
TZOFFSETFROM:-0700
TZOFFSETTO:-0600
TZNAME:MDT
DTSTART:20270314T090000
END:DAYLIGHT
BEGIN:STANDARD
TZOFFSETFROM:-0600
TZOFFSETTO:-0700
TZNAME:MST
DTSTART:20271107T080000
END:STANDARD
END:VTIMEZONE
BEGIN:VEVENT
DTSTART;TZID=America/Denver:20260426T083000
DTEND;TZID=America/Denver:20260426T170000
DTSTAMP:20260423T115042
CREATED:20260302T065053Z
LAST-MODIFIED:20260420T044735Z
UID:4656-1777192200-1777222800@kenoshabreck.com
SUMMARY:Peaks & Beats 2026 | Breckenridge Ski Resort Spring Music & Pond Skim
DESCRIPTION:This day has been canceled per the Breckenridge Ski Resort\nThere is NO Sunday Event!\n\nPeaks & Beats Breckenridge – Sunday at Peak 8\nPeaks & Beats Breckenridge continues at the base of Peak 8 with another full day of live music\, pond skimming\, and spring ski energy. As the weekend wraps up\, Sunday delivers one final high-alpine sendoff. \nHosted by the Breckenridge Ski Resort\, this free\, public event combines DJ sets with the annual pond skim tradition. As a result\, Peak 8 remains the center of spring action all weekend long. \n\nLive Music at Peaks & Beats Breckenridge – Sunday\nOn Sunday\, Wuki headlines the main stage at 3 PM\, bringing the weekend to a high-energy close. An opening DJ kicks things off at 1 PM\, immediately following the pond skim competition. \nMeanwhile\, the final opening DJ announcement is still to come. \nAll live music is free and open to the public. \n\nPond Skim at Peak 8\nIn addition to live music\, the annual pond skim returns for two full days of splash-filled action. \n📍 Location: Peak 8 Base⏰ Competition: 10 AM – 1 PM (Saturday & Sunday)📝 Athlete Check-In: 8:30–9:30 AM📢 Mandatory Meeting: 9:30 AM💲 Registration Fee: $30👤 Participants must be 14+ \nAll participants must register online in advance. Because the event is popular\, spaces are expected to fill quickly. Entry fees benefit the Epic Promise Foundation. \nPresented by Toyota\, Mtn Dew\, and American Express. \n\nBefore & After Peaks & Beats Breckenridge\nIf you’re heading to Peaks & Beats Breckenridge\, make Kenosha your downtown headquarters. Located just steps from Main Street\, we offer 30+ craft beers on tap\, burgers\, BBQ\, steaks\, and a relaxed après atmosphere. \nWhether you’re fueling up before the pond skim or winding down after the music wraps up\, Kenosha is a natural stop during spring events in Breckenridge. \nHungry? Explore our menu. Thirsty? Check the beer list. Or skip the clicks and meet us on Main Street Breck. \nFor official event details and updates\, visit the Breckenridge Ski Resort website. \n\nSunday Specials at Kenosha\nAfter Peaks & Beats Breckenridge wraps at Peak 8\, keep the weekend rolling downtown at Kenosha. \nBecause it’s Sunday\, our Sunday specials will be running all day: \n• $5 off Smokehouse & Thai Chicken Salads• $6 Mimosas• $9 Bacon Bloody Mary \nMeanwhile\, 30+ craft beers remain on tap\, and our full menu is available from open to close. \nWhether you’re winding down after Wuki’s set or celebrating a successful pond skim\, Kenosha is your Main Street landing zone.
URL:https://kenoshabreck.com/event/peaks-beats-2026-breckenridge-ski-resort-spring-music-pond-skim-2/
LOCATION:Breckenridge Ski Resort\, 1599 Ski Hill Road\, Breckenridge\, CO\, 8042\, United States
CATEGORIES:Local Events & Happenings
END:VEVENT
END:VCALENDAR